BEGIN:VCALENDAR
VERSION:2.0
X-WR-TIMEZONE:Europe/Paris
PRODID:-//Audencia//NONSGML v1.0//EN
CALSCALE:GREGORIAN
BEGIN:VEVENT
SUMMARY:Alumni dinner in Cape Town, South Africa
DTSTART:20190227T180000
DTEND:20190227T220000
UID:399
DTSTAMP:20260425T205951
LOCATION:Plant 8 Buiten St, cnr Loop Street Cape Town
DESCRIPTION:On the occasion of her visit to South Africa, Audencia professor Jennifer Goodman would be pleased to meet alumni and students in Cape Town!\n\nCome and join her for dinner at PLANT, a restaurant owned by alumnus Pierre Lambret (GE 02):\n\n	Wednesday 27 February\n	From 18:00 to 22:00\n
BEGIN:VALARM
ACTION:DISPLAY
TRIGGER:-PT60M
DESCRIPTION:Alumni dinner in Cape Town, South Africa
END:VALARM
END:VEVENT
END:VCALENDAR