BEGIN:VCALENDAR
VERSION:2.0
X-WR-TIMEZONE:Europe/Paris
PRODID:-//Audencia//NONSGML v1.0//EN
CALSCALE:GREGORIAN
BEGIN:VEVENT
SUMMARY:Afterwork : Club Consulting
DTSTART:20190228T190000
DTEND:20190228T220000
UID:398
DTSTAMP:20260425T205908
LOCATION:Cave Crus Paris, 1 rue du Plat d'Etain, 75001 Paris
DESCRIPTION:\nNous sommes très heureux de tous vous convier au tout premier afterwork Consulting qui se déroulera le jeudi 28 février prochain à partir de 19h !\n\nAu programme :\n- Une brève présentation du club (le pourquoi, le comment et les objectifs)\n- Un mot très court sur le parcours et les motivations des ambassadeurs à animer le club\n- Vos suggestions pour le club (échanges libres)\n\nAmbiance décontractée assurée : Cave Crus Paris, 1 rue du Plat d'Etain, 75001 Paris\n\nN’hésitez pas à nous contacter si vous avez des questions. Faites passer le mot autour de vous !\n\nA très bientôt,\nHadrien et Audrey – Ambassadeurs du Club Consulting\n\n==========\n\nWe are very happy to invite you all to the very first Consulting afterwork which will take place on Thursday 28th February  7pm onwards!\n\nOn the program:\n- A brief presentation of the club (why, how and objectives)\n- A very short presentation on the journey and the motivations of the ambassadors to lead the club\n- Your suggestions for the club\n\nA relaxed atmosphere is guaranteed : Cave Crus Paris, 1 rue du Plat d'Etain, Paris 75001\n\nFeel free to contact us if you have any questions. Spread the word around you!\n\nSee you very soon,\nHadrien and Audrey - Ambassadors of the Club Consulting
BEGIN:VALARM
ACTION:DISPLAY
TRIGGER:-PT60M
DESCRIPTION:Afterwork : Club Consulting
END:VALARM
END:VEVENT
END:VCALENDAR