BEGIN:VCALENDAR
VERSION:2.0
X-WR-TIMEZONE:Europe/Paris
PRODID:-//Audencia//NONSGML v1.0//EN
CALSCALE:GREGORIAN
BEGIN:VEVENT
SUMMARY:Table ronde MOS : Le tout sécuritaire tue-t-il le spectacle sportif dans les stades ?
DTSTART:20190314T183000
DTEND:20190314T220000
UID:397
DTSTAMP:20260425T223814
LOCATION:Audencia Paris, 95 rue Falguière Paris 15ème
DESCRIPTION:Le jeudi 14 mars, nous organisons notre deuxième table ronde au sein du MS MOS. Elle aura lieu le jeudi 14 mars à 18h30 au sein du campus d’Audencia Paris, 95 rue Falguière Paris 15ème.\n \nLe sujet sera le suivant : Le tout sécuritaire tue-t-il le spectacle sportif dans les stades ?\n \nLes intervenants :\n- Luc Delatour, Directeur des opérations au FC Nantes\n- Jean-Luc Lemarchand, Dirigeant de la société de sécurité événementielle Stand’Up\n- James Rophe, Porte-parole de l’association nationale des supporters\n\nPour les inscriptions, c'est ici : https://docs.google.com/forms/d/e/1FAIpQLSeeDokvyTF7v2wa4Xzd-HXxCfGcXn862DQMgaVuDiTPygWZaQ/viewform?usp=sf_link\n\n
BEGIN:VALARM
ACTION:DISPLAY
TRIGGER:-PT60M
DESCRIPTION:Table ronde MOS : Le tout sécuritaire tue-t-il le spectacle sportif dans les stades ?
END:VALARM
END:VEVENT
END:VCALENDAR