BEGIN:VCALENDAR
VERSION:2.0
X-WR-TIMEZONE:Europe/Paris
PRODID:-//Audencia//NONSGML v1.0//EN
CALSCALE:GREGORIAN
BEGIN:VEVENT
SUMMARY:Be a panel member for the MBA soft skills oral
DTSTART:20190503T090000
DTEND:20190503T170000
UID:396
DTSTAMP:20260425T223845
LOCATION:Audencia Executive Centre 1, rue Pierre Adolphe Bobierre, Nantes
DESCRIPTION:Join the panel of assessors for the full-time MBA soft-skills oral\n\nBefore full-time MBA students graduate, they prepare an oral presentation, in English, which aims to reflect on the skills they have acquired during the year. It is an opportunity for each student to stand back and reflecton what they have and what they may need to improve.\n\nThe orals will take place on Friday 3 May from 09:00 to 17:00 with a break for lunch.\n\nA slot of one hour is allocated for each student as follows:\n \n\n	Student presentation (15 minutes)\n	Discussion and questions with the panel (20 minutes)\n	Panel deliberation - students to leave the room (5 minutes)\n	Panel debrief (10 minutes)\n	Handover (10 minutes)\n\n \nWe would be delighted to welcome you back to Audencia as a panel member for:\n\n	a morning (09:00-12:00)\n	an afternoon (14:00-17:00)\n	a full day (if you are available!)\n\n\nInterested?\n\nPlease contact Odile Dusart with your availabilities and any questions you may have\n 
BEGIN:VALARM
ACTION:DISPLAY
TRIGGER:-PT60M
DESCRIPTION:Be a panel member for the MBA soft skills oral
END:VALARM
END:VEVENT
END:VCALENDAR