BEGIN:VCALENDAR
VERSION:2.0
X-WR-TIMEZONE:Europe/Paris
PRODID:-//Audencia//NONSGML v1.0//EN
CALSCALE:GREGORIAN
BEGIN:VEVENT
SUMMARY:Afterwork in Istanbul, Turkey
DTSTART:20190227T190000
DTEND:20190227T203000
UID:395
DTSTAMP:20260425T210539
LOCATION:Serbethane Café Sultanahmet Mahallesi Torun Sk. Arasta Pazar No:117 34122 Fatih/Istanbul
DESCRIPTION:On the occasion of their learning trip to Istanbul, students of the Specialised Master in Marketing, Design, Creation (MDC) would be delighted to meet with alumni from Audencia.\n\nJoin them for an informal afterwork (or after studies) gathering on Wednesday 27 February from 19:00 to 20:30 at the Serbethane Café.
BEGIN:VALARM
ACTION:DISPLAY
TRIGGER:-PT60M
DESCRIPTION:Afterwork in Istanbul, Turkey
END:VALARM
END:VEVENT
END:VCALENDAR