BEGIN:VCALENDAR
VERSION:2.0
X-WR-TIMEZONE:Europe/Paris
PRODID:-//Audencia//NONSGML v1.0//EN
CALSCALE:GREGORIAN
BEGIN:VEVENT
SUMMARY:[Soirée-débat] Carrière : Les jeunes femmes font-elles vraiment des choix ?
DTSTART:20190313T183000
DTEND:20260425T205908
UID:394
DTSTAMP:20260425T205908
LOCATION:CCO de Nantes Tour Bretagne - Place de Bretagne Nantes
DESCRIPTION:Lors de l'inscription : pour les Centraliens, merci de cliquer sur "je ne suis ni étudiant ni diplômé" (qui sous-entend étudiant/diplômé d'Audencia)\n\n\n\nSOIREE - DEBAT\n\nMercredi 13 mars à 18h30 au CCO de Nantes\n\n\nDifférentes études montrent que les cheminements de carrière diffèrent selon le sexe.\nEst-ce le cas pour les étudiantes et les jeunes diplômées des Grandes Ecoles ?\nAudencia et Business au Féminin Network ont commandité une étude pour comprendre les mécanismes qui animent ces premiers choix. \n\n \n\nDécouvrez en avant-première les résultats de cette étude passionnante et venez échanger sur le sujet.\n \n\n                         \n\nCentrale Nantes, Centrale Nantes Alumni, Business au Féminin Network (BFN), Audencia Business School et Audencia Alumni vous invitent à venir débattre dans le cadre du OFF du Printemps des Fameuses 2019.\n\n\n                  \n\nINTERVENANTS :\n\n\n	Caroline Jarry, auteure de l’étude, diplômée du programme MCI, Audencia\n	Catherine Chassanite, consultante carrière, Audencia\n	Gwenaëlle Valenta, responsable RH, KPMG Région Ouest\n	Hélène Leroy (GE 14), consultante secteur public - Pôle eau et milieux aquatiques, Espelia\n	Elia Guiheux, diplômée Centrale Nantes\n	Anaïs Hijos, diplômée Centrale Nantes\n\n\nMODERATEUR : \n\n\n	Vincent Grollier, membre du pôle éloquence d'Isegoria, étudiant Audencia\n\n\n\n\n 
BEGIN:VALARM
ACTION:DISPLAY
TRIGGER:-PT60M
DESCRIPTION:[Soirée-débat] Carrière : Les jeunes femmes font-elles vraiment des choix ?
END:VALARM
END:VEVENT
END:VCALENDAR