BEGIN:VCALENDAR
VERSION:2.0
X-WR-TIMEZONE:Europe/Paris
PRODID:-//Audencia//NONSGML v1.0//EN
CALSCALE:GREGORIAN
BEGIN:VEVENT
SUMMARY:Afterwork Audencia Junior Conseil
DTSTART:20190208T193000
DTEND:20190208T220000
UID:393
DTSTAMP:20260425T205953
LOCATION:
DESCRIPTION:Audencia Junior Conseil organise un afterwork le 8 février 2019 à 19h30 au restaurant Le Grand Bleu au 67 Boulevard de la Bastille à Paris.\n\nNous avons à cœur de vous présenter le nouveau mandat 2019, celui qui fera tout pour vous remémorer vos belles années.\n\nC’est également l’occasion pour vous, anciens de la Junior Entreprise, de retrouver vos anciens camarades avec lesquels vous avez tant partagé le temps d’une année, et d’échanger sur vos différents parcours, plus inspirants les uns que les autres.\nNous vous attendons nombreux !\n\nEn espérant qu’un tel événement vous permettra de ressortir avec pleins d’idées en tête !
BEGIN:VALARM
ACTION:DISPLAY
TRIGGER:-PT60M
DESCRIPTION:Afterwork Audencia Junior Conseil
END:VALARM
END:VEVENT
END:VCALENDAR