BEGIN:VCALENDAR
VERSION:2.0
X-WR-TIMEZONE:Europe/Paris
PRODID:-//Audencia//NONSGML v1.0//EN
CALSCALE:GREGORIAN
BEGIN:VEVENT
SUMMARY:Webinar: Daniel Porot on finding work that fits
DTSTART:20190321T133000
DTEND:20190321T144500
UID:390
DTSTAMP:20260425T210044
LOCATION:
DESCRIPTION:Join the webinar on finding work that fits\n\nMany people yearn for fulfilling work.  However, whether you are advanced in your career or just starting, finding work that really fits is difficult.  You need to understand yourself, you need to understand the options available to you and then you need to secure the job you have targeted. But the payoffs to career fit are immense: your enthusiasm and output increase, your work becomes more enjoyable and you position yourself as unique in the job market.\n\nMost people are not clear about their ultimate skills and as a result often get stuck when thinking about their career. In the webinar Daniel will explain six ways to discover ultimate skills (hint: a reliable indicator is that you tend to “lose yourself” in your work when you apply them) and a way of ordering your preferences for your ideal working environment.\n\nIn this webinar Daniel will show how to uncover:\n\n•    Your ultimate skills (those for which you have both expertise and enthusiasm)\n•    Who you work best with – your preferred people environment\n•    Ideal working conditions - and how to discover them in your prior work history\n•    Most attractive fields of interest – and where to look for them.\n•    A networking strategy to validate your choices (PIE method)\n\nWe have free tickets for member alumni and students here:  \n \n \n\nREGISTRATION\nThere are 200 free tickets for member alumni and students\n(use code “AUDstudent” if the free ticket is not shown)\n \n\n\nThe live webinar is from 13:30 to 14:45 (Paris time) on Thursday 21 March\n\nIf you are not available, register to ensure you receive the replay!\nAll attendees will receive the meeting slides, a recording and resource pack.
BEGIN:VALARM
ACTION:DISPLAY
TRIGGER:-PT60M
DESCRIPTION:Webinar: Daniel Porot on finding work that fits
END:VALARM
END:VEVENT
END:VCALENDAR