BEGIN:VCALENDAR
VERSION:2.0
X-WR-TIMEZONE:Europe/Paris
PRODID:-//Audencia//NONSGML v1.0//EN
CALSCALE:GREGORIAN
BEGIN:VEVENT
SUMMARY:Afterwork in Berlin, Germany
DTSTART:20190221T193000
DTEND:20190221T210000
UID:389
DTSTAMP:20260425T210008
LOCATION:Berlin Hilton, Mohrenstrasse 30, 10117, Berlin
DESCRIPTION:During her business trip to Berlin, Flavie Lorre, President of the Audencia Alumni Association, would be delighted to meet Audencia alumni for an informal afterwork gathering.\n\nJoin her from 19:30 to 21:00 on Thursday 21 February in the Listo Lounge of the Berlin Hilton, Mohrenstrasse 30, 10117 Berlin\n 
BEGIN:VALARM
ACTION:DISPLAY
TRIGGER:-PT60M
DESCRIPTION:Afterwork in Berlin, Germany
END:VALARM
END:VEVENT
END:VCALENDAR