BEGIN:VCALENDAR
VERSION:2.0
X-WR-TIMEZONE:Europe/Paris
PRODID:-//Audencia//NONSGML v1.0//EN
CALSCALE:GREGORIAN
BEGIN:VEVENT
SUMMARY:Innovations & Tech 2019 : tendances à suivre et impacts à mesurer
DTSTART:20190205T183000
DTEND:20190205T210000
UID:387
DTSTAMP:20260425T205852
LOCATION:8 Route de la Jonelière 44000 Nantes
DESCRIPTION:\n\nNous avons le plaisir de vous convier à la soirée-débat « Audencia, au cœur des innovations et tendances technologiques 2019 » :\n \nInnovation & Tech en 2019 :\nTendances à suivre et impacts à mesurer\n \nMardi 5 février 2019\nAccueil 18h15 - Conférence 18h30\n\n\n \nA cette occasion nous vous proposerons une conférence en deux parties :\n\n\n	Les tendances Tech & Innovation : vers une révolution des usages, métiers et organisations ? par Michaël Thoby (execMBA 13 – CEO Fondateur d’Emotic), qui présentera l’écosystème entrepreneurial de la Silicon Valley et décryptera le CES 2019, ses découvertes, pépites à suivre ou déceptions.\n	La Tech vue par les Millenials​ par Valérie Claude-Gaudillat (Directrice de l’Innovation à Audencia) et Romain, Camille, Chloé, Fiona, Xi et Niels, six étudiants de différents programmes d’Audencia, de retour d’une Learning Expedition au CES et dans la Silicon Valley, au cours de laquelle ils ont rencontré de nombreux experts, entrepreneurs, investisseurs, dont ils partageront la vision et les conseils.\n\n\n \nCette soirée se clôturera par un cocktail-networking (réservé aux diplômés et entreprises), en présence de François Macé (GE 79 – Associé EY), membre Fondateur du Cercle Audencia des Dirigeants de l’Ouest, à l’initiative de la Learning Expedition.\n\nAu plaisir de vous rencontrer\n
BEGIN:VALARM
ACTION:DISPLAY
TRIGGER:-PT60M
DESCRIPTION:Innovations & Tech 2019 : tendances à suivre et impacts à mesurer
END:VALARM
END:VEVENT
END:VCALENDAR