BEGIN:VCALENDAR
VERSION:2.0
X-WR-TIMEZONE:Europe/Paris
PRODID:-//Audencia//NONSGML v1.0//EN
CALSCALE:GREGORIAN
BEGIN:VEVENT
SUMMARY:Table ronde « De l’utilité des réseaux féminins et des politiques de mixité, égalité et diversité : pratiques innovantes »
DTSTART:20190207T090000
DTEND:20190207T110000
UID:386
DTSTAMP:20260425T205905
LOCATION:Bpifrance,  Auditorium 6-8 Boulevard Haussman - Paris 9
DESCRIPTION:À l’occasion de la sortie du "Guide 2019 Égalité, Mixité, Diversité, des entreprises à l’image de la société", Bpifrance, La Tribune et News RSE ont le plaisir de vous convier à une rencontre autour d’entreprises engagées dans leurs démarches d’égalité, de mixité et de diversité (BNP Paribas Real Estate, ENGIE, Harmonie Mutuelle, MGEN, SNCF, Veolia) et autour de femmes entrepreneures, dirigeantes d’entreprises de croissance.\n\nA cette occasion, Anne-Laure Guihéneuf, Responsable du Pôle Rn’B (Research & Business) de la Chaire RSE d'Audencia témoignera de l'initiative Négotraining. \n\nTable ronde n°1 : "De l’ utilité des réseaux féminins et des politiques de mixité, égalité et diversité : pratiques innovantes" \navec les représentantes de BNP Paribas, ENGIE, Harmonie Mutuelle, SNCF, et Veolia. \nAnimation par Nora Barsali, présidente de News RSE\n \n>> INSCRIPTION <<\n\n 
BEGIN:VALARM
ACTION:DISPLAY
TRIGGER:-PT60M
DESCRIPTION:Table ronde « De l’utilité des réseaux féminins et des politiques de mixité, égalité et diversité : pratiques innovantes »
END:VALARM
END:VEVENT
END:VCALENDAR