BEGIN:VCALENDAR
VERSION:2.0
X-WR-TIMEZONE:Europe/Paris
PRODID:-//Audencia//NONSGML v1.0//EN
CALSCALE:GREGORIAN
BEGIN:VEVENT
SUMMARY:Raclette evening in Beijing, China
DTSTART:20190119T193000
DTEND:20190119T220000
UID:385
DTSTAMP:20260425T205728
LOCATION:Beijing
DESCRIPTION:Audencia Alumni in Beijing are gathering for a raclette evening.\n\nDate: Saturday 19 January\nTime: from 7.30pm\nPlace: contact ambassador Katherine via the "Audencia Alummni BJ Community" WeChat group for more details!
BEGIN:VALARM
ACTION:DISPLAY
TRIGGER:-PT60M
DESCRIPTION:Raclette evening in Beijing, China
END:VALARM
END:VEVENT
END:VCALENDAR