BEGIN:VCALENDAR
VERSION:2.0
X-WR-TIMEZONE:Europe/Paris
PRODID:-//Audencia//NONSGML v1.0//EN
CALSCALE:GREGORIAN
BEGIN:VEVENT
SUMMARY:Tet New Year afterwork gathering in Ho Chi Minh City, Vietnam
DTSTART:20190118T183000
DTEND:20190118T203000
UID:384
DTSTAMP:20260425T205819
LOCATION:APT 852 Floor 2, 21-23 Ho Tung Mau, Nguyen Thai Binh Ward, District 1,  Ho Chi Minh City Vietnam
DESCRIPTION:Hi Audencia Friends\nSorry for late notice but how about having some cosy and cool after work drinks to celebrate 2019 and New Year of the Earth Pig ?\nCome and join alumni and friends at APT on Friday 18 January.\n\nYou are all more than welcome to join and chat about the future, Trump, soccer, life....\n\nHope you can make it.\nCheers,\nLaurent Tam Nguyen\nAmbassador - HCMC
BEGIN:VALARM
ACTION:DISPLAY
TRIGGER:-PT60M
DESCRIPTION:Tet New Year afterwork gathering in Ho Chi Minh City, Vietnam
END:VALARM
END:VEVENT
END:VCALENDAR