BEGIN:VCALENDAR
VERSION:2.0
X-WR-TIMEZONE:Europe/Paris
PRODID:-//Audencia//NONSGML v1.0//EN
CALSCALE:GREGORIAN
BEGIN:VEVENT
SUMMARY:International Day, spring session, Audencia Atlantic Campus, Nantes
DTSTART:20190131T134500
DTEND:20190131T180000
UID:383
DTSTAMP:20260425T210050
LOCATION:Atlantic Campus 8 route de la Joneliere 44300 Nantes
DESCRIPTION:Insights and tools for your international career\n\n\n31 January is the spring edition of International Day at Audencia\n\nInternational Day is for students and aims to show you how working outside your home country can enhance your career and provide opportunities that you hadn’t imagined.\n\nChoose your workshops for insights and tools for international careers:\n \n\n\n	13:45-14:45     Internship opportunities in the UK (Video Conference)\n	13:45-14:45     Czech emploi – Travailler en République tchèque (Video Conference)\n\n \n\n\n	15:00-16:00     How to work in China (Video Conference)\n	15:00-16:00     Careers in Finance in Europe\n\n \n\n\n	16:15-17:15     Travailler pour le Ministère de l'Europe et des affaires étrangères\n	16:15-17:15     Connecting You With Quality International Career Opportunities (Video Conference)\n\n \n\n\n	14:00-18:00     Q&A with an International Banking/ Finance Expert (individual appointments)\n	14:00-17:30     Correction de CV express en Anglais\n	14:00-17:30     Correction de CV express en Français\n\n\n\nRegister on Tomorrow and check your agenda for exact times and locations of all sessions\n 
BEGIN:VALARM
ACTION:DISPLAY
TRIGGER:-PT60M
DESCRIPTION:International Day, spring session, Audencia Atlantic Campus, Nantes
END:VALARM
END:VEVENT
END:VCALENDAR