BEGIN:VCALENDAR
VERSION:2.0
X-WR-TIMEZONE:Europe/Paris
PRODID:-//Audencia//NONSGML v1.0//EN
CALSCALE:GREGORIAN
BEGIN:VEVENT
SUMMARY:RAGEFE conference and networking session in Madrid, Spain
DTSTART:20190207T190000
DTEND:20190207T203000
UID:382
DTSTAMP:20260425T205910
LOCATION:October Plaza de Sta. Barbara, 5 28004 Madrid
DESCRIPTION:Bonjour à tous,\n \nÀ l’occasion de cette nouvelle année 2019 et dans le souci de continuer de dynamiser notre réseau d’Alumni de Grandes Écoles Françaises en Espagne, nous avons le plaisir de vous proposer un nouveau format d’évènements et de rencontres qui se mettra en place tout au long de l’année (si cela est couronnée de succès ?) en partenariat avec une jeune Fintech française créée en 2014 (d’abord sous le nom de Lendix) et première plateforme paneuropéenne de prêt aux entreprises: October.\n \nPour la première de ces rencontres, il s’agira d’une présentation par un expert pendant 25-30 minutes sur un thème choisi, suivi d’une brève séance de questions/réponses et d’un cocktail de networking.\n \nLe programme sera le suivant :\n\n·  Thème: Google, Amazon, Facebook, Apple : les banques de demain?\n·  Date : 7 Février 2019\n·  Horaire: 19h-20h30\n·  Lieu : bureaux October, Plaza de Sta. Barbara, 5, 28004 Madrid\n·  Audience: Limitée à 25-30 personnes max\n·  Prix : 5€ / personne\n \n \n \n\n\n\n \nMerci de bien vouloir confirmer votre participation à Romain Richard (romain.richard@essec.edu) avec copie à Erwan Basnier (erwanbake@yahoo.es) et de réaliser le paiement à l’avance auprès de Romain Richard (le contacter pour des coordonnées bancaires) qui supervisera cette série d’événements, avant le jeudi 31 janvier à 18h00. Les inscriptions se feront selon l’ordre d’arrivée des pétitions jusqu’à l’épuisement des places disponibles (30 max.) et seront closes au plus tard le mercredi 30/01/2019 à 18h00.\n \nIMPORTANT: Politique d’annulation et de remboursement: Toute annulation qui n’aura pas été communiquée par e-mail au minimum 48 heures avant l'évènement (cad avant le mardi 05/02/2019 à 14h00) auprès de Romain ne sera pas prise en compte et ne pourra donner lieu à aucun remboursement. L’inscription à l’évènement suppose l’acceptation implicite de ces conditions fixées par les organisateurs.\n \nA très bientôt et en espérant vous voir nombreux le jeudi 7 février !\n  \nPour tout renseignement complémentaire, n’hésitez pas à nous joindre.\n \nL’équipe organisatrice du RAGEFE\nFrançois\n 
BEGIN:VALARM
ACTION:DISPLAY
TRIGGER:-PT60M
DESCRIPTION:RAGEFE conference and networking session in Madrid, Spain
END:VALARM
END:VEVENT
END:VCALENDAR