BEGIN:VCALENDAR
VERSION:2.0
X-WR-TIMEZONE:Europe/Paris
PRODID:-//Audencia//NONSGML v1.0//EN
CALSCALE:GREGORIAN
BEGIN:VEVENT
SUMMARY:CV photo shoot during Career Connections Week, Audencia Atlantic Campus, Nantes
DTSTART:20190124T140000
DTEND:20190124T170000
UID:381
DTSTAMP:20260425T205857
LOCATION:Forum, Audencia Atlantic Campus 8 route de la Joneliere 44312 Nantes
DESCRIPTION:Come to the Audencia Forum on Thursday 24 January between 2.00 and 5.00pm to have your CV photo taken by a professional photographer*.\n\n \nREGISTER NOW ON TOMORROW\n \n\n*business dress recommended!\n\n 
BEGIN:VALARM
ACTION:DISPLAY
TRIGGER:-PT60M
DESCRIPTION:CV photo shoot during Career Connections Week, Audencia Atlantic Campus, Nantes
END:VALARM
END:VEVENT
END:VCALENDAR