BEGIN:VCALENDAR
VERSION:2.0
X-WR-TIMEZONE:Europe/Paris
PRODID:-//Audencia//NONSGML v1.0//EN
CALSCALE:GREGORIAN
BEGIN:VEVENT
SUMMARY:Souper tournant à Montréal, Canada
DTSTART:20190130T174500
DTEND:20190130T210000
UID:380
DTSTAMP:20260425T210204
LOCATION:Restaurant Chez Éric 438 Place Jacques Cartier, Montréal
DESCRIPTION:Une occasion unique de réseauter et célébrer la nouvelle année 2019 à Montréal avec des alumni de grandes écoles ou universités françaises lors d’un souper de réseautage avec tables tournantes.\n \n\n\n	Quand? : Mercredi 30 Janvier 2019\n	Heure? : De 17h45 à 21h00\n	Où? : Restaurant Chez Éric (Cuisine française) - 438 Place Jacques Cartier (Montréal) (Métro : Place d'Armes)\n	Combien? : 48 $ (taxes et pourboires inclus) plus les frais Eventbrite d'émission de billet.\n	Exclus : Boissons (alcools et autres)\n\n \n\nLien d'inscription\n \n\nLe Programme de votre soirée\n\n\n	17h45-18h30 : Accueil des participants et passage à table\n	18h30-18h45 : Allocution de bienvenue\n	18h45-19h25 : Entrées + réseautage à table\n	19h25-19h30 : Changement de table\n	19h30-20h10 : Plat principal + réseautage à table\n	20h10-20h15 : Changement de table\n	20h15-20h55 : Dessert + réseautage à table\n	20h55-21h00 : Allocution de clôture\n	21h00-22h00 : Prolongement du réseautage (optionnel), possibilité d'utiliser le service Bar du restaurant\n\n\n\nCet événement est organisé par David Senbel (Centrale) pour le French Alumni Network.\n 
BEGIN:VALARM
ACTION:DISPLAY
TRIGGER:-PT60M
DESCRIPTION:Souper tournant à Montréal, Canada
END:VALARM
END:VEVENT
END:VCALENDAR