BEGIN:VCALENDAR
VERSION:2.0
X-WR-TIMEZONE:Europe/Paris
PRODID:-//Audencia//NONSGML v1.0//EN
CALSCALE:GREGORIAN
BEGIN:VEVENT
SUMMARY:Forum Audencia Paris
DTSTART:20170330T130000
DTEND:20170330T180000
UID:38
DTSTAMP:20260425T205728
LOCATION:Espace Charenton Paris 12è
DESCRIPTION:Après le succès de la 1ère édition en 2016, la 2ème édition du Forum Audencia Paris aura lieu le 30 mars après-midi à l'Espace Charenton. Ce Forum est ouvert à tous les étudiants en recherche d'une 2ème partie de césure, d'un stage de fin d'études ou d'un 1er emploi.\nDe nombreuses opportunités vous seront proposées à cette occasion.\n\nDe 13h à 13h30 : goûter réseau avec les étudiants et diplômés présents. Une occasion pour vous retrouver et échanger sur vos expériences professionnelles.\n13h30 à 18h : échanges sur les stands avec les entreprises présentes\n\nListe des entreprises inscrites :\nAMARIS - AMUNDI - AMAZON - CSC - GALERIES LAFAYETTE - HANES BRANDS (DIM,..) - KIDILIZ - MC2i - PROCTER & GAMBLE - SHISEIDO - SHOWROOMPRIVE.COM - TRADELAB - UNILEVER - VENTADIS - WAVESTONE - WONDERBOX\n\nVous êtes diplômé(e) ? inscrivez-vous par mail : cgodet@audencia.com\nVous êtes étudiant(e) ? inscrivez-vous sur Tomorrow.
BEGIN:VALARM
ACTION:DISPLAY
TRIGGER:-PT60M
DESCRIPTION:Forum Audencia Paris
END:VALARM
END:VEVENT
END:VCALENDAR