BEGIN:VCALENDAR
VERSION:2.0
X-WR-TIMEZONE:Europe/Paris
PRODID:-//Audencia//NONSGML v1.0//EN
CALSCALE:GREGORIAN
BEGIN:VEVENT
SUMMARY:Club Management & RH : Présentation de l'ouvrage de Christine NASCHBERGER "Management de la diversité des ressources humaines"
DTSTART:20190219T190000
DTEND:20190219T220000
UID:378
DTSTAMP:20260425T205839
LOCATION:Campus Paris Falguière
DESCRIPTION:Dans le cadre d'un premier événement du Club Management et RH de l'année, nous vous invitons à la présentation de l'ouvrage "Management de la diversité des ressources humaines" de Christine NASCHBERGER, enseignante-chercheuse à Audencia Business School. \nLe thème de l’évènement sera la gestion de la diversité/inclusion en organisation.\n\nTenant compte du thème, Julien HAMY, Administrateur Autre Cercle, Île de France et Eric BALLIF, étudiant M.Sc. RH et Learning Partner - Regional Coordinator - France & Italy chez Xerox, aussi interviendront pour parler de la diversité.\n\nCet événement aura lieu le mardi 19 février à partir de 19h sur le Campus Falguière Paris et sera suivi d'un cocktail.\n\nL'entrée est gratuite mais l'inscription est obligatoire.\n\nAu plaisir de vous accueillir !
BEGIN:VALARM
ACTION:DISPLAY
TRIGGER:-PT60M
DESCRIPTION:Club Management & RH : Présentation de l'ouvrage de Christine NASCHBERGER "Management de la diversité des ressources humaines"
END:VALARM
END:VEVENT
END:VCALENDAR