BEGIN:VCALENDAR
VERSION:2.0
X-WR-TIMEZONE:Europe/Paris
PRODID:-//Audencia//NONSGML v1.0//EN
CALSCALE:GREGORIAN
BEGIN:VEVENT
SUMMARY:Webinar: Steve Dalton on answering the hardest interview question
DTSTART:20190227T190000
DTEND:20190227T201500
UID:377
DTSTAMP:20260425T205905
LOCATION:
DESCRIPTION:Join the webinar on how to answer that hardest interview question, #TMAY!\n\nThe most common question interviewers ask - often right at the start of the interview - is “tell me about yourself” (TMAY).  This simple question derails more candidates than any other.  It invites you to waffle. Or to deliver a sales pitch.  Smart candidates avoid both.\n\nIn this webinar, Steve Dalton, head of daytime careers at Duke Fuqua Business School (and author of the bestselling job search guide The 2-Hour Job Search) will explain his “FIT model”  and show how to answer this critical question well, and more generally how to talk effectively about yourself in interviews. In particular:\n\n•    Why "tell me about yourself" (TMAY) is the most important (and most common) interview question \n•    Why "selling yourself" during your answer to TMAY is a critical mistake\n•    What employers are actually looking for when they ask you TMAY\n•    How to give interviewers the information they want in a concise, likable, and easy-to-deliver way.\n\n \n\nREGISTER HERE\nThere are 200 free tickets for member alumni and students here via the registration page\n(use code “AUDstudent” if the free ticket is not shown)\n \n\n\nThe live webinar is from 19:00 to 20:15 (Paris time) on Wednesday 27 February\nIf you are not available, register to ensure you receive the replay!\nAll attendees will receive the meeting slides, a recording and resource pack.
BEGIN:VALARM
ACTION:DISPLAY
TRIGGER:-PT60M
DESCRIPTION:Webinar: Steve Dalton on answering the hardest interview question
END:VALARM
END:VEVENT
END:VCALENDAR