BEGIN:VCALENDAR
VERSION:2.0
X-WR-TIMEZONE:Europe/Paris
PRODID:-//Audencia//NONSGML v1.0//EN
CALSCALE:GREGORIAN
BEGIN:VEVENT
SUMMARY:Afterwork in Brussels, Belgium
DTSTART:20190131T190000
DTEND:20190131T210000
UID:376
DTSTAMP:20260425T205845
LOCATION:Venue to be confirmed!
DESCRIPTION:Come and join alumni and students for an afterwork on Thursday 31 January.\n\nRegister now and we'll confirm the exact location as soon as we can!
BEGIN:VALARM
ACTION:DISPLAY
TRIGGER:-PT60M
DESCRIPTION:Afterwork in Brussels, Belgium
END:VALARM
END:VEVENT
END:VCALENDAR