BEGIN:VCALENDAR
VERSION:2.0
X-WR-TIMEZONE:Europe/Paris
PRODID:-//Audencia//NONSGML v1.0//EN
CALSCALE:GREGORIAN
BEGIN:VEVENT
SUMMARY:Alumni & student networking evening in London, UK
DTSTART:20190220T180000
DTEND:20190220T210000
UID:375
DTSTAMP:20260425T205722
LOCATION:Bar Kick 127 Shoreditch High Street London E1 6JE
DESCRIPTION:Come and pitch your role, company and international experience to a group of Audencia students during their learning trip to London.\n\nJoin the networking evening the Bar Kick (127 Shoreditch High Street, E1 6JE) from 18:00 to 21:00 on Wednesday 20 February.
BEGIN:VALARM
ACTION:DISPLAY
TRIGGER:-PT60M
DESCRIPTION:Alumni & student networking evening in London, UK
END:VALARM
END:VEVENT
END:VCALENDAR