BEGIN:VCALENDAR
VERSION:2.0
X-WR-TIMEZONE:Europe/Paris
PRODID:-//Audencia//NONSGML v1.0//EN
CALSCALE:GREGORIAN
BEGIN:VEVENT
SUMMARY:Reporté - Soirée Inspirante et Rencontre MOS
DTSTART:20190212T190000
DTEND:20190212T230000
UID:374
DTSTAMP:20260425T205842
LOCATION:Paris
DESCRIPTION:= Cet événement est reporté =\n\nLe mardi soir 12 février, le Pôle Alumni organise une rencontre entre les diplômés du MOS et les étudiants de la promo actuelle du MOS.\n \nL’idée de cette rencontre est de permettre aux étudiants d’échanger avec les diplômés, d’inspirer de leur parcours professionnel et de voir avec eux pour des pistes ou des offres de stage ou d’emploi dans le milieu du sport.\n \nLe lieu de cet événement reste à être défini mais il aura lieu à Paris avec une ambiance sportive.\n \nPour assister à cette rencontre, il faut s'inscrire ici. \n \nEn vous remerciant par avance de votre confirmation par inscription.\n \nPS : Si vous avez déjà des offres à partager, veuillez les envoyer à nushad.merchant@audencia.com
BEGIN:VALARM
ACTION:DISPLAY
TRIGGER:-PT60M
DESCRIPTION:Reporté - Soirée Inspirante et Rencontre MOS
END:VALARM
END:VEVENT
END:VCALENDAR