BEGIN:VCALENDAR
VERSION:2.0
X-WR-TIMEZONE:Europe/Paris
PRODID:-//Audencia//NONSGML v1.0//EN
CALSCALE:GREGORIAN
BEGIN:VEVENT
SUMMARY:Private screening of "Coyote: the Mike Plant story" in New York, USA
DTSTART:20190114T183000
DTEND:20190114T203000
UID:373
DTSTAMP:20260425T210048
LOCATION:Tribeca Grill 10038 New York
DESCRIPTION:Did you know that American sailor Mike Plant finished the first edition of the Vendee Globe, the 1989 single-handed non-stop round-the-world yacht race, celebrated as a hero in France despite a disqualification? A crowd of 25,000 gathered at the entrance of the harbor of Les Sables D’Olonne to show their admiration and respect to the sailor. \n\nOn January 14, join us at the Tribeca Film Center from 18:30 onwards to find out more on free spirited Plant’s and his many adventures in “COYOTE: The Mike Plant Story”.\n\nWe will socialise around drinks after the showing.\nTribeca Grill is offering happy hour prices at the bar for the attendees.\nThank you Tribeca Grill! \n\n \nBuy your tickets now\n\n\nWith our best wishes for the new year.\nThe French American Yacht Club team.\nFollow us on Facebook\n 
BEGIN:VALARM
ACTION:DISPLAY
TRIGGER:-PT60M
DESCRIPTION:Private screening of "Coyote: the Mike Plant story" in New York, USA
END:VALARM
END:VEVENT
END:VCALENDAR