BEGIN:VCALENDAR
VERSION:2.0
X-WR-TIMEZONE:Europe/Paris
PRODID:-//Audencia//NONSGML v1.0//EN
CALSCALE:GREGORIAN
BEGIN:VEVENT
SUMMARY:SAI recruitment in Beijing, China
DTSTART:20190126T090000
DTEND:20190126T170000
UID:372
DTSTAMP:20260425T205716
LOCATION:Campus France Institut français de Pékin Guangcai Guoji Gongyu Gongti Xilu 18 Chaoyang Qu Beijing 100020
DESCRIPTION:Come and join the SAI interview sessions on January, 26 at Campus France in Beijing. \n\nPlease send your ambassador Katherine Kang the following information if you want to join:\n\n	Name and first name\n	Email address\n	Phone number\n	Your year and programme of graduation\n	Your availability during the day\n\n \n\nThe entire day (from 9 a.m. to 5 p.m.)\nThe morning (from 9 a.m. to noon)\nThe afternoon (from 2 p.m. to 5 p.m.)\n\n 
BEGIN:VALARM
ACTION:DISPLAY
TRIGGER:-PT60M
DESCRIPTION:SAI recruitment in Beijing, China
END:VALARM
END:VEVENT
END:VCALENDAR