BEGIN:VCALENDAR
VERSION:2.0
X-WR-TIMEZONE:Europe/Paris
PRODID:-//Audencia//NONSGML v1.0//EN
CALSCALE:GREGORIAN
BEGIN:VEVENT
SUMMARY:Christmas drinks for Food & Agribusiness (FAM) students & alumni in Nantes
DTSTART:20181220T180000
DTEND:20181220T200000
UID:371
DTSTAMP:20260425T211045
LOCATION:Café Pop 2 allée Duguay Trouin Nantes
DESCRIPTION:Marie Baudet, this year's Food and Agribusiness (FAM) class rep has organised a Christmas drink for FAM students and alumni.\n\nCome and join Marie on Thursday, December 20 at 6pm at Café Pop 2 allée Duguay Trouin, near Commerce/Feydeau, with all the 2018-19 class.\n\nBring some small typical snacks.
BEGIN:VALARM
ACTION:DISPLAY
TRIGGER:-PT60M
DESCRIPTION:Christmas drinks for Food & Agribusiness (FAM) students & alumni in Nantes
END:VALARM
END:VEVENT
END:VCALENDAR