BEGIN:VCALENDAR
VERSION:2.0
X-WR-TIMEZONE:Europe/Paris
PRODID:-//Audencia//NONSGML v1.0//EN
CALSCALE:GREGORIAN
BEGIN:VEVENT
SUMMARY:SOIRÉE FESTIVE NANTAISE - DEGUSTATION VIN
DTSTART:20190117T193000
DTEND:20260425T205850
UID:370
DTSTAMP:20260425T205850
LOCATION:Bé2M 32 bis rue Fouré 44000 NANTES
DESCRIPTION:SOIRÉE FESTIVE pour la NOUVELLE ANNÉE\n\n \n\n\n\n- Nantes -\n\n\n>> Les inscriptions sont pour le moment closes.\nNous mettons en place une liste d'attente en cas de désistement. Vous êtes intéressé(e) ? Ecrivez à Laetitia Caliez, lcaliez@audencia.com.\n\n\n\nDémarrons 2019 avec peps et entrain en nous retrouvant autour d'une soirée festive le jeudi 17 janvier à partir de 19h30 au Bé2M (32 bis rue Fouré - Nantes).\nUne dégustation de vin avec un sommelier vous y attend ainsi qu'un cocktail dinatoire et une galette des rois.\n2019 vous promet un programme Alumni nantais pétillant !\n>> Contact : lcaliez@audencia.com\nInscrivez-vous vite.\n\n\n- - - - - - -\n\nLet's start 2019 with enthusiasm by gathering around a festive evening on Thursday, January 17 from 7:30 pm at the Bé2M (32 bis rue Fouré - Nantes). \nA wine tasting with a sommelier awaits you as well as a cocktail reception and a galette des rois.\n2019 promises you a good Nantes Alumni program!\n>> Contact : lcaliez@audencia.com\nRegister now.\n\n 
BEGIN:VALARM
ACTION:DISPLAY
TRIGGER:-PT60M
DESCRIPTION:SOIRÉE FESTIVE NANTAISE - DEGUSTATION VIN
END:VALARM
END:VEVENT
END:VCALENDAR