BEGIN:VCALENDAR
VERSION:2.0
X-WR-TIMEZONE:Europe/Paris
PRODID:-//Audencia//NONSGML v1.0//EN
CALSCALE:GREGORIAN
BEGIN:VEVENT
SUMMARY:Networking in Kiev, Ukraine
DTSTART:20170321T180000
DTEND:20170321T210000
UID:37
DTSTAMP:20260425T205717
LOCATION:International Institute of Management Kiev MIM-Kyiv Shulyavskaya ulitsa, 10/12, Kiyev, Kyivs'ka oblast, Ukraine, 03055
DESCRIPTION:\n\nAMBA, the Association of MBAs, is organising a networking event.\n\nJoin them in Kiev on 21st March to meet and network with MBA students and graduates from AMBA-accredited programmes.\n\n18.00 – 21.00  Programme and speakers to be announced\n\nRegister for free today >>\n\nStudents and graduates of AMBA-accredited programmes are eligible for free AMBA Membership, which provides you with a range of exclusive benefits. By booking your place at this event you are also registering for AMBA membership. Activation of your membership will be confirmed after the event by the Membership Team once your eligibility has been verified. If you have any questions please contact the AMBA Membership Team who will be happy to help.\n\n\n\n\n\nLocation: International Institute of Management Kiev MIM-Kyiv\nDate: 21 March 2017\nTime: 18.00 to 21.00\n\nAddress: Shulyavskaya ulitsa, 10/12, Kiyev,\nKyivs'ka oblast,\nUkraine, 03055\n\n\n\n\nRead more here
BEGIN:VALARM
ACTION:DISPLAY
TRIGGER:-PT60M
DESCRIPTION:Networking in Kiev, Ukraine
END:VALARM
END:VEVENT
END:VCALENDAR