BEGIN:VCALENDAR
VERSION:2.0
X-WR-TIMEZONE:Europe/Paris
PRODID:-//Audencia//NONSGML v1.0//EN
CALSCALE:GREGORIAN
BEGIN:VEVENT
SUMMARY:French AlumNight in Ho Chi Minh City, Vietnam
DTSTART:20181218T183000
DTEND:20181218T213000
UID:369
DTSTAMP:20260425T225021
LOCATION:Chanh Bistro Rooftop 171 Calmette Street, District 1  (opposite Ben Thanh market, above Maison Marou & Tomatito) Ho Chi Minh City
DESCRIPTION:The end of the year is approaching rapidly and we are excited to bring you the very first edition of the SAIGON'S FRENCH ALUMNIGHTS, a new series of networking events gathering the French Alumni communities active in Ho Chi Minh City.\n\nCo-hosted by Club VIE Vietnam & EDHEC Alumni Vietnam Club in association with France Alumni Vietnam | Mạng lưới Cựu du học sinh Trực Thuộc Đsq Pháp and the local Alumni Chapters of Audencia Alumni - Vietnam, CFVG Alumni HCMC, ESCP Europe, ESSEC, HEC, TBS & more.\n\nThis networking event is also supported by CCIFV, La French Tech Viet and Saigon's FYP (French Young Professionals)\n\nThe event is free but registration is mandatory:\n \nREGISTER HERE\n\n 
BEGIN:VALARM
ACTION:DISPLAY
TRIGGER:-PT60M
DESCRIPTION:French AlumNight in Ho Chi Minh City, Vietnam
END:VALARM
END:VEVENT
END:VCALENDAR