BEGIN:VCALENDAR
VERSION:2.0
X-WR-TIMEZONE:Europe/Paris
PRODID:-//Audencia//NONSGML v1.0//EN
CALSCALE:GREGORIAN
BEGIN:VEVENT
SUMMARY:MBA business cards
DTSTART:20181207T120000
DTEND:20181207T130000
UID:368
DTSTAMP:20260425T205842
LOCATION:Office 366 (Katie Francois) Audencia Atlantic Campus 8 route de la Joneliere Nantes
DESCRIPTION:MBA class of 2019 business cards are ready!\n\nCome and collect them from office 366 (Katie Francois) between 12.00 and 1.00pm on Friday 7 December.
BEGIN:VALARM
ACTION:DISPLAY
TRIGGER:-PT60M
DESCRIPTION:MBA business cards
END:VALARM
END:VEVENT
END:VCALENDAR