BEGIN:VCALENDAR
VERSION:2.0
X-WR-TIMEZONE:Europe/Paris
PRODID:-//Audencia//NONSGML v1.0//EN
CALSCALE:GREGORIAN
BEGIN:VEVENT
SUMMARY:Isègoria, conférence-débat de Jean-Marc Ayrault
DTSTART:20181213T190000
DTEND:20181213T203000
UID:367
DTSTAMP:20260425T223738
LOCATION:Audencia Atlantic Campus 8 route de la Joneliere Nantes
DESCRIPTION:Les étudiants Isegoria sont heureux de vous inviter à la conférence-débat de Jean-Marc Ayrault, homme politique, ancien Premier Ministre et Ministre des Affaires Étrangères sur le thème « Le nouvel environnement mondial »  \n \nSPEAKER\nDès 1950, Robert Schuman nous prévenait des changements géopolitiques internationaux à venir en disant que « La paix mondiale ne saurait être sauvegardée sans des efforts créateurs à la mesure des dangers qui la menacent. ». A l’heure où les grandes puissances d’hier voient leur influence contestée, le multilatéralisme semble aujourd'hui plus nécessaire que jamais. Dans cette optique, Isegoria a l’immense honneur de recevoir, le jeudi 13 Décembre 2018, Jean-Marc Ayrault, ancien Premier Ministre et Ministre des Affaires Etrangères, pour discuter du Nouvel environnement mondial.\n\n\n \nÉvénement gratuit mais inscription obligatoire via ce lien\n\n\nContact: events@audencia.com
BEGIN:VALARM
ACTION:DISPLAY
TRIGGER:-PT60M
DESCRIPTION:Isègoria, conférence-débat de Jean-Marc Ayrault
END:VALARM
END:VEVENT
END:VCALENDAR