BEGIN:VCALENDAR
VERSION:2.0
X-WR-TIMEZONE:Europe/Paris
PRODID:-//Audencia//NONSGML v1.0//EN
CALSCALE:GREGORIAN
BEGIN:VEVENT
SUMMARY:Soirée Networking France Alumni à Paris
DTSTART:20181206T180000
DTEND:20181206T203000
UID:366
DTSTAMP:20260425T210009
LOCATION:Campus France 28, rue de la Grange aux Belles 75010 Paris
DESCRIPTION:L'agence Campus France et l'Institut Français d'Allemagne ont le plaisir de vous convier à l'afterwork France Alumni Allemagne qui sera organisé le jeudi 6 décembre dans les locaux de Campus France de 18h à 20h30.\n \n\nLa soirée networking réunira des anciens étudiants allemands en France et anciens étudiants français en Allemagne, des étudiants allemands en cours de cursus en France et des acteurs du tissu économique franco-allemand : startups, incubateurs d’écoles, recruteurs franco-allemand.\n\nElle permettra notamment aux participants d’échanger sur les opportunités de stage au sein des entreprises/startups représentées.\n\n \n\nLe réseau social professionnel France Alumni Allemagne compte près de 500 étudiants.\n\n \n\nProgramme prévisionnel :\n\n18:00 Mots de bienvenue – Campus France et partenaires\n\n18:15-19:00 Pitch des start-up présentes (parcours d’entrepreneurs, valorisation de la double culture franco-allemande, bonnes pratiques, etc.)\n\n19:00-20:30 Cocktail et networking – stand d’information mis à disposition des partenaires\n\n \n\nL'inscription est obligatoire en utilisant ce formulaire ou en envoyant un mail  de confirmation à clarisse.zerbib@campusfrance.org
BEGIN:VALARM
ACTION:DISPLAY
TRIGGER:-PT60M
DESCRIPTION:Soirée Networking France Alumni à Paris
END:VALARM
END:VEVENT
END:VCALENDAR