BEGIN:VCALENDAR
VERSION:2.0
X-WR-TIMEZONE:Europe/Paris
PRODID:-//Audencia//NONSGML v1.0//EN
CALSCALE:GREGORIAN
BEGIN:VEVENT
SUMMARY:Webinar : Et vous, comment voyez-vous la Supply Chain de demain ?
DTSTART:20181213T133000
DTEND:20181213T141500
UID:365
DTSTAMP:20260425T210044
LOCATION:Online - Plateforme WEBIKEO
DESCRIPTION:\nParticipez à notre web-conférence qui traitera des différentes problématiques auxquelles les professionnels de la supply chain sont confrontées.\n\nProblèmes de stocks ? Réduire les délais de mise à disposition ? Améliorer la disponibilité des produits ? Augmenter la satisfaction du client ?\n\nDans ce webinar, nous répondrons à ces interrogations !\n\n\n\n\n \nPlus d'informations & inscription
BEGIN:VALARM
ACTION:DISPLAY
TRIGGER:-PT60M
DESCRIPTION:Webinar : Et vous, comment voyez-vous la Supply Chain de demain ?
END:VALARM
END:VEVENT
END:VCALENDAR