BEGIN:VCALENDAR
VERSION:2.0
X-WR-TIMEZONE:Europe/Paris
PRODID:-//Audencia//NONSGML v1.0//EN
CALSCALE:GREGORIAN
BEGIN:VEVENT
SUMMARY:3xMBA networking session in Nantes
DTSTART:20190125T183000
DTEND:20190125T200000
UID:364
DTSTAMP:20260425T210044
LOCATION:Audencia Executive Centre - Geraudière rue Pierre Adolphe Bobierre 44000 Nantes
DESCRIPTION:Come to the MBA speed-networking session at Audencia!\n \n\n	On Friday 25 January\n	From 18.30 to 20.00\n	At the Audencia Executive Centre\n\n\nProgramme:\n\n18.30: Welcome message by Makram Chemangui, director of Audencia Executive Education\n18.45: Presentation by Executive MBAs of the take homes from their learning trip to San Francisco\n19:00: Presentation by Full-Time MBAs of living in France from an international viewpoint\n19.15: Networking and refreshments\n\nConnect with fellow MBAs - Full-time, Executive and EuroMBA programmes - from current and previous years and be inspired by their experiences.\n \n*This event is for MBA students and alumni only*
BEGIN:VALARM
ACTION:DISPLAY
TRIGGER:-PT60M
DESCRIPTION:3xMBA networking session in Nantes
END:VALARM
END:VEVENT
END:VCALENDAR