BEGIN:VCALENDAR
VERSION:2.0
X-WR-TIMEZONE:Europe/Paris
PRODID:-//Audencia//NONSGML v1.0//EN
CALSCALE:GREGORIAN
BEGIN:VEVENT
SUMMARY:Soirée festive fin d'année / End of the year festivities
DTSTART:20181218T193000
DTEND:20181218T230000
UID:363
DTSTAMP:20260425T210150
LOCATION:La Terrasse Ombragée du Molitor 13 Rue Nungesser et Coli 75016 Paris
DESCRIPTION:Soirée festive fin d'année / End of the year festivities\n\n\n\n(Français)\n\n2018 touche à sa fin et 2019 arrive à grands pas. Alors, retrouvons-nous autour d'une soirée festive le mardi 18 décembre à partir de 19h30 à La Terrasse Ombragée du Molitor (13 Rue Nungesser et Coli, 75016 Paris).\n\nInscrivez-vous vite.\n\n(English)\n\n2018 is coming to an end & 2019 isn't far away. So, let's get together to celebrate this on Tuesday, 18th December from 7pm onwards at La Terrasse Ombragée du Molitor (13 Rue Nungesser et Coli, 75016 Paris).\n\nRegister here quickly.\n\nQuestions ? : Nushad MERCHANT : nushad.merchant@audencia.com \n\n 
BEGIN:VALARM
ACTION:DISPLAY
TRIGGER:-PT60M
DESCRIPTION:Soirée festive fin d'année / End of the year festivities
END:VALARM
END:VEVENT
END:VCALENDAR