BEGIN:VCALENDAR
VERSION:2.0
X-WR-TIMEZONE:Europe/Paris
PRODID:-//Audencia//NONSGML v1.0//EN
CALSCALE:GREGORIAN
BEGIN:VEVENT
SUMMARY:CV photo opportunity for students during Link Up, Audencia Atlantic Campus, Nantes
DTSTART:20181203T170000
DTEND:20181203T193000
UID:361
DTSTAMP:20260425T210003
LOCATION:Forum - Audencia Atlantic Campus 8 route de la Jonelière 44312 Nantes
DESCRIPTION:If you can answer yes to the following questions, then Link Up is the event for you!\n \n\n	Are you in your first year at Audencia?\n	Have you begun to realise just how important it is to build your network but don't know where to start?\n	Do you wish you had a great photo for your LinkedIn profile?\n\n\n\nCome to the Audencia Forum on Monday 3 December, 5.00-7.30pm, to discover how to approach the Audencia network and get noticed!\n\nA professional photographer will be available to take that all-important CV photo*\n\n\n \nREGISTER NOW ON TOMORROW\n \n\n\n\n\n*business dress recommended!\n\n 
BEGIN:VALARM
ACTION:DISPLAY
TRIGGER:-PT60M
DESCRIPTION:CV photo opportunity for students during Link Up, Audencia Atlantic Campus, Nantes
END:VALARM
END:VEVENT
END:VCALENDAR