BEGIN:VCALENDAR
VERSION:2.0
X-WR-TIMEZONE:Europe/Paris
PRODID:-//Audencia//NONSGML v1.0//EN
CALSCALE:GREGORIAN
BEGIN:VEVENT
SUMMARY:Parcours Complet Jeunes Diplômés 2016 - 28 avril et 05 mai (2 jours) : Définir et déployer son projet
DTSTART:20170428T083000
DTEND:20170428T170000
UID:36
DTSTAMP:20260425T205736
LOCATION:Paris
DESCRIPTION:Un parcours ciblé en 2 temps pour les Jeunes Diplômés\n(moins de 3 ans d'expérience professionnelle) \n \nUn parcours à la carte \nDéfinir son projet | 28 avril| Paris\nDéployer son projet | 05 mai | Paris\n \nCe parcours est pour toi si : \n- Tu souhaites rejoindre la dynamique d’un groupe pour construire ton projet, renforcer tes talents et ta confiance \n- Tu es à la recherche de ton premier job / second job \n- Tu souhaites obtenir des conseils pour piloter ta carrière professionnelle\n \nDéfinir son projet \nPour : \n1. Mieux se connaître pour avancer dans son projet \n2. Mieux connaître ses motivations pour décider de ses choix professionnels \n3. S'engager dans un plan d'action\n \nOutils & Méthodes : \nAtelier interactif en groupe de 6 à 12 personnes\nInventaire d'intérêts professionnels STRONG® (motivations) \n\nDéployer son projet \nPour : \n1. Apprendre à bien communiquer : CV Pitch (réussir à bien se présenter en quelques minutes), profil Linked In, stratégie réseau... \n2. Se préparer aux entretiens & réussir en short-list : simulation d’entretien, négociation salariale, questions piège ...\n \nOutils & Méthode : \nAtelier interactif en groupe de 6 à 12 personnes \nDes simulations entretiens / vidéos\nDes feedbacks du groupe\nL'avis des spécialistes du recrutement\n \nINSCRIPTION A LA CARTE \n\nPromo 2016 & 2017\nJour 1 : Définir son projet \nJour 2 : Déployer son projet \n\nPromo 2014 & 2015\n2 Jours : Définir et déployer son projet \nJour 1 : Définir son projet \nJour 2 : Déployer son projet 
BEGIN:VALARM
ACTION:DISPLAY
TRIGGER:-PT60M
DESCRIPTION:Parcours Complet Jeunes Diplômés 2016 - 28 avril et 05 mai (2 jours) : Définir et déployer son projet
END:VALARM
END:VEVENT
END:VCALENDAR