BEGIN:VCALENDAR
VERSION:2.0
X-WR-TIMEZONE:Europe/Paris
PRODID:-//Audencia//NONSGML v1.0//EN
CALSCALE:GREGORIAN
BEGIN:VEVENT
SUMMARY:Conférence : « L’argent : valeur, moyen, objectif ou tabou ? »
DTSTART:20190321T193000
DTEND:20190321T223000
UID:357
DTSTAMP:20260425T205901
LOCATION:Deloitte - La Défense
DESCRIPTION:Le Cercle des Dirigeants organise une conférence sur le thème « L’argent : valeur, moyen, objectif ou tabou ? ».\n\nDate : Le jeudi 21 mars\nLieu : Deloitte - La Défense\nHeure : de 19h30 à 22h30\n\nCette conférence sera suivie d'un cocktail réseautage.\n\nLes intervenants :\n\n\n\nYann Boissière, rabbin au MJLF et président de l’association « Les Voix de la Paix », animateur de nombreux séminaires et cercles de réflexion en entreprises, analysera ce thème en décryptant pour nous le message de textes philosophiques et théologiques de différentes religions, d’Aristote à nos jours.\n\n\n\n\n\n\nFrançois Mollat du Jourdin (GE85), fondateur de MJ&Cie, premier multi Family Office indépendant en France, témoignera de son expérience acquise au travers de l'accompagnement en Philanthropie & Mécénat qu'il propose à ses clients.\n\n\n\n\nLes organisateurs et animateurs :\n\n\n\nSébastien Rouzaire (GE 91), Président Fondateur de Kerius Finance (www.kerius-finance.com), société indépendante de conseil et service spécialisée en gestion et couverture des risques de change, taux d’intérêts et matières premières.\n\n\n\n\n\n\n\nPhilippe Serzec (GE 92), Associé Deloitte Transaction Services, département spécialisé en due diligence financière d’acquisition et de cession, en charge des ETI et PME.\n\n \n\n \n\nLe Cercle des Dirigeants Audencia est une initiative d’Audencia Alumni, réseau des diplômés d’Audencia Nantes. L'objectif du Cercle est de rassembler les diplômés de plus de 15 ans d'expérience, occupant un poste de dirigeant ou de direction dans leur entreprise. Les réunions sont organisées chaque année autour de thèmes variés et d’une formule conférence/ cocktail dans le but de partager des problématiques communes et développer le réseau relationnel professionnel entre diplômés Audencia.\n \nRejoindre Le Cercle des Dirigeants sur LinkedIn\n\n\n****************\nTRANSPORTS\nMetro Ligne 1 – Tramway Ligne T2 - RER A\n\nACCÈS PIÉTON\n6, place de la Pyramide, La Défense 9\n92800 Puteaux / Paris La Défense \n \nACCÈS TAXI (Dépose-minute)\n10, rue Delarivière-Lefoullon,\nLa Défense 9\n92800 Puteaux / Paris La Défense\n \nACCÈS AU PARKING VISITEUR « VILLON »\n(Ascenseur avec accès sur le Parvis)\n47, rue de Paradis, La Défense 9\n92800 Puteaux / Paris La Défense
BEGIN:VALARM
ACTION:DISPLAY
TRIGGER:-PT60M
DESCRIPTION:Conférence : « L’argent : valeur, moyen, objectif ou tabou ? »
END:VALARM
END:VEVENT
END:VCALENDAR