BEGIN:VCALENDAR
VERSION:2.0
X-WR-TIMEZONE:Europe/Paris
PRODID:-//Audencia//NONSGML v1.0//EN
CALSCALE:GREGORIAN
BEGIN:VEVENT
SUMMARY:ICF#3 - Intercultural Festival at Audencia
DTSTART:20181127T163000
DTEND:20181127T190000
UID:356
DTSTAMP:20260425T205820
LOCATION:Audencia Forum Atlantic Campus 8 route de la Joneliere Nantes
DESCRIPTION:#ICFAudencia III: embracing differences, celebrating diversity\n\nStudents are organising the third annual ICF on November 27\n\nGet ready to immerse yourself in a wealth of cultures and identities, where those who enter as guests, leave as friends.\n\nWant to join or you need more info? contact: icf@audencia.com
BEGIN:VALARM
ACTION:DISPLAY
TRIGGER:-PT60M
DESCRIPTION:ICF#3 - Intercultural Festival at Audencia
END:VALARM
END:VEVENT
END:VCALENDAR