BEGIN:VCALENDAR
VERSION:2.0
X-WR-TIMEZONE:Europe/Paris
PRODID:-//Audencia//NONSGML v1.0//EN
CALSCALE:GREGORIAN
BEGIN:VEVENT
SUMMARY:Career fair in Paris for professional opportunities in Morocco & Dubai
DTSTART:20181124T093000
DTEND:20181124T190000
UID:355
DTSTAMP:20260425T205722
LOCATION:Paris Marriott Rive Gauche Hotel & Conference Center Boulevard Saint-Jacques Paris
DESCRIPTION:Les plus grands Groupes présents au Maroc et à Dubaï vous donnent rendez-vous au Forum MENA Careers le samedi 24 Novembre au Marriott Rive Gauche à Paris pour des opportunités de stage et CDI.\n\n\nInscription sur www.mena-careers.com\n\nFacebook MENA Careers 24 Novembre
BEGIN:VALARM
ACTION:DISPLAY
TRIGGER:-PT60M
DESCRIPTION:Career fair in Paris for professional opportunities in Morocco & Dubai
END:VALARM
END:VEVENT
END:VCALENDAR