BEGIN:VCALENDAR
VERSION:2.0
X-WR-TIMEZONE:Europe/Paris
PRODID:-//Audencia//NONSGML v1.0//EN
CALSCALE:GREGORIAN
BEGIN:VEVENT
SUMMARY:KPMG recruitment event, Luxembourg
DTSTART:20181122T083000
DTEND:20181123T163000
UID:354
DTSTAMP:20260425T210123
LOCATION:12 Rue Jean Engling Luxembourg
DESCRIPTION:The 5th edition of the KPMG Luxembourg recruitment event will take place on 22 and 23 November 2018\n\nRegistrations can be completed through KPMG website by applying for either one of the following positions:\n\n- Junior Auditor\n- Tax Adviser
BEGIN:VALARM
ACTION:DISPLAY
TRIGGER:-PT60M
DESCRIPTION:KPMG recruitment event, Luxembourg
END:VALARM
END:VEVENT
END:VCALENDAR