BEGIN:VCALENDAR
VERSION:2.0
X-WR-TIMEZONE:Europe/Paris
PRODID:-//Audencia//NONSGML v1.0//EN
CALSCALE:GREGORIAN
BEGIN:VEVENT
SUMMARY:[Sports] Table ronde - Stratégies, bénéfices, risques : Quels impacts pour une nouvelle discipline olympique ?
DTSTART:20181126T180000
DTEND:20181126T230000
UID:353
DTSTAMP:20260425T205846
LOCATION:
DESCRIPTION:Table ronde\n\nStratégies, bénéfices, risques :\nQuels impacts pour une nouvelle discipline olympique ?\n\nPassionné par le sport ? Participez à cette conférence organisée par les étudiants de MOS. Cette conférence aura lieu au Tremplin à partir de 18h qui sera suivi d'un cocktail.\n\nLes intervenants :\n\n Sébastien CONCHY\n Directeur général de la Frédération Française de Rugby\n\n\n\n\n\n\n\n\n Jérôme PRIGENT\n Chargé de mission de Développement du Basket Ball 3x3 à la Frédération Française de Basket Ball
BEGIN:VALARM
ACTION:DISPLAY
TRIGGER:-PT60M
DESCRIPTION:[Sports] Table ronde - Stratégies, bénéfices, risques : Quels impacts pour une nouvelle discipline olympique ?
END:VALARM
END:VEVENT
END:VCALENDAR