BEGIN:VCALENDAR
VERSION:2.0
X-WR-TIMEZONE:Europe/Paris
PRODID:-//Audencia//NONSGML v1.0//EN
CALSCALE:GREGORIAN
BEGIN:VEVENT
SUMMARY:Table ronde "Startup ou CAC 40 : les tips pour devenir une femme d'influence dans l'entreprise"
DTSTART:20181127T190000
DTEND:20181127T220000
UID:352
DTSTAMP:20260425T223839
LOCATION:Audencia Paris
DESCRIPTION:\n\n\n\n\n\n\n\n\n\n \n\n\nWho run the world ?\nToutes femmes d'influence !  \nLe Journal des Grandes Ecoles et Universités et Audencia vous donnent rendez-vous mardi 27 novembre 2018 pour une table ronde 100 % coaching.\n\nProgramme : \nStartup ou CAC 40 : les tips pour devenir une femme d’influence dans l’entreprise\nInfluence ou pouvoir : quelles instances conquérir pour faire vraiment bouger les lignes dans l’entreprise ? \nLes do et les don’t pour monter dans le pipe du leadership ?\nSalaire, avantages, missions, postes : marre de vous faire arnaquer ? Comment booster durablement votre carrière ? \nBiberon ou CoDir pourquoi choisir ? \nComment dire définitivement non à l’autocensure et pulvériser le plafond de verre ? \n \nINSCRIPTION\n\n\n\n\n\n\n\n\n\n\n\n\n\n\n\n\n\n\n\n\n\n\n\nLa table ronde sera suivie d’un cocktail / networking sur place.\n\nParticipation gratuite, réservation obligatoire ici (nombre de places limité)
BEGIN:VALARM
ACTION:DISPLAY
TRIGGER:-PT60M
DESCRIPTION:Table ronde "Startup ou CAC 40 : les tips pour devenir une femme d'influence dans l'entreprise"
END:VALARM
END:VEVENT
END:VCALENDAR