BEGIN:VCALENDAR
VERSION:2.0
X-WR-TIMEZONE:Europe/Paris
PRODID:-//Audencia//NONSGML v1.0//EN
CALSCALE:GREGORIAN
BEGIN:VEVENT
SUMMARY:Afterwork in Ho Chi Minh City, Vietnam
DTSTART:20181125T180000
DTEND:20181125T200000
UID:351
DTSTAMP:20260425T205954
LOCATION:Refinery  74C Hai Ba trung D1 TP HCM City Vietnam
DESCRIPTION:Hi Audencia Friends\n\nOn the occasion of Audencia Professor Eric Maton's visit to Vietnam, come and join him for an informal afterwork gathering in Ho Chi Minh City:\n\nLets have a drink with him this upcoming sunday 25 nov 6pm at the Refinery 74C Hai Ba trung D1 TPHCM.\n\nHope we can be a few of us to share with him our backgrounds.\n\nCheers,\nYour ambassador,\nLaurent Tam Nguyen
BEGIN:VALARM
ACTION:DISPLAY
TRIGGER:-PT60M
DESCRIPTION:Afterwork in Ho Chi Minh City, Vietnam
END:VALARM
END:VEVENT
END:VCALENDAR