BEGIN:VCALENDAR
VERSION:2.0
X-WR-TIMEZONE:Europe/Paris
PRODID:-//Audencia//NONSGML v1.0//EN
CALSCALE:GREGORIAN
BEGIN:VEVENT
SUMMARY:Afterwork in Hanoi, Vietnam
DTSTART:20181118T180000
DTEND:20181118T200000
UID:350
DTSTAMP:20260425T210122
LOCATION:Hanoi, Vietnam Exact location TBC ASAP!
DESCRIPTION:On the occasion of Audencia Professor Eric Maton's visit to Vietnam, come and join him for an informal afterwork gathering in Hanoi:\n \n\n	from 18:00 to 20:00\n	on Sunday 18 November\n	at a location TBC ASAP!\n
BEGIN:VALARM
ACTION:DISPLAY
TRIGGER:-PT60M
DESCRIPTION:Afterwork in Hanoi, Vietnam
END:VALARM
END:VEVENT
END:VCALENDAR