BEGIN:VCALENDAR
VERSION:2.0
X-WR-TIMEZONE:Europe/Paris
PRODID:-//Audencia//NONSGML v1.0//EN
CALSCALE:GREGORIAN
BEGIN:VEVENT
SUMMARY:Pilote ta carrière - Jeunes diplômés - 10 décembre 2018
DTSTART:20181210T090000
DTEND:20181210T180000
UID:349
DTSTAMP:20260425T205901
LOCATION:AUDENCIA - 95 rue Falguière - 75015 PARIS
DESCRIPTION:\nCe parcours est pour toi si :  \n\n- Tu souhaites rejoindre la dynamique d’un groupe pour construire ton projet, renforcer tes talents et ta confiance \n- Tu es à la recherche de ton premier job / second job \n- Tu souhaites obtenir des conseils pour piloter ta carrière professionnelle \n\n\nNos valeurs \n#Ecoute #Bienveillance #Co-construction #Convivialité \n \n1. Définir son projet \n\nPour : \n1. Mieux se connaître pour avancer dans son projet \n2. Mieux connaître ses motivations pour décider de ses choix professionnels \n3. S'engager dans un plan d'action \n\nOutils & Méthodes \nAtelier interactif en groupe de 6 à 12 personnes\nL'inventaire d'intérêts professionnels STRONG® (motivations) \n     \n \n2. Déployer son projet \n\nPour : \n1. Apprendre à bien communiquer : CV Pitch (réussir à bien se présenter en quelques minutes), profil Linked In, stratégie réseau... \n2. Se préparer aux entretiens & réussir en short-list : simulation d’entretien, négociation salariale, questions piège ... \n \nOutils & Méthodes \nAtelier interactif en groupe de 6 à 12 personnes \nSimulations entretiens / vidéos \nFeedbacks du groupe \nL'avis des spécialistes du recrutement \n     \n\nEvénement gratuit réservé aux diplômés des promos 2017 & 2018\nInscriptions en haut à droite\n\nContact : Agnès Marchand amarchand@audencia.com \n 
BEGIN:VALARM
ACTION:DISPLAY
TRIGGER:-PT60M
DESCRIPTION:Pilote ta carrière - Jeunes diplômés - 10 décembre 2018
END:VALARM
END:VEVENT
END:VCALENDAR