BEGIN:VCALENDAR
VERSION:2.0
X-WR-TIMEZONE:Europe/Paris
PRODID:-//Audencia//NONSGML v1.0//EN
CALSCALE:GREGORIAN
BEGIN:VEVENT
SUMMARY:Conférence sur l’acquisition de trafic Internet
DTSTART:20190131T190000
DTEND:20190131T223000
UID:348
DTSTAMP:20260425T205723
LOCATION:Audencia Campus Paris, 95 rue Falguière, 75015 PARIS
DESCRIPTION:\n\nRéférencement Naturel et Payant, Social Media, Affiliation, RTB et Programmatique, Retargeting… quelles sont les méthodes les plus efficaces actuellement ? Quelles stratégies mettre en place ? Quels modèles d’attribution adopter ? Quelles relations agence/annonceur ?\n\n\nLe programme :\n\n- Accueil à partir de 19h\n- Conférence à 19h30\n- Suivi d’un cocktail à partir de 21h30\n\n\nLes intervenants :\n\n\nStéphanie Chaplain (GE 02), Responsable acquisition digitale chez Direct Energie\n\n\n\n\nYann Sauvageon (GE 02), Expert en stratégie digitale et fondateur de l’agence IKOVA\n\n\n\nNos intervenants reviennent pour partager avec nous leurs visions et les tendances à venir du point de l’annonceur et de l’agence.\n \n\nLors de cette conférence vous répartirez avec :\n-         Une compréhension approfondie des leviers de création de trafic web\n-         L’identification et l’anticipation des nouvelles tendances\n-         Une vision croisée du couple agence/annonceur\n \nNous vous attendons nombreux !
BEGIN:VALARM
ACTION:DISPLAY
TRIGGER:-PT60M
DESCRIPTION:Conférence sur l’acquisition de trafic Internet
END:VALARM
END:VEVENT
END:VCALENDAR