BEGIN:VCALENDAR
VERSION:2.0
X-WR-TIMEZONE:Europe/Paris
PRODID:-//Audencia//NONSGML v1.0//EN
CALSCALE:GREGORIAN
BEGIN:VEVENT
SUMMARY:Workshop & partage de bonnes pratiques : « Développer sa eReputation, sa visibilité professionnelle et son influence grâce aux réseaux sociaux professionnels (LinkedIn, Twitter…) »
DTSTART:20181129T190000
DTEND:20181129T230000
UID:346
DTSTAMP:20260425T205858
LOCATION:Two Café, 11 rue Notre Dame de Nazareth, PARIS  75003
DESCRIPTION:Le Club Marketing & Digital organise un workshop le jeudi 29 novembre pour partager de bonnes pratiques sur le thème suivant :\n« Développer sa eReputation, sa visibilité professionnelle et son influence grâce aux réseaux sociaux professionnels (LinkedIn, Twitter…) »\n\nLes points suivants seront abordés :\n \n\n	Quels objectifs (visibilité interne & externe, employabilité, développement de business…) et quelle stratégie mettre en place pour y être actif sans y perdre son temps ? \n\n \n\n\n	Quels réseaux, quels contenus publier ? Comment construire un réseau de qualité et engager ses communautés ? Quelle feuille de route et comment s’organiser pour être efficace ?\n\n\n\n\nLe thème vous intéresse et vous voulez en savoir plus ? Inscrivez-vous à l’atelier\ndu 29 novembre prochain :\n\nAu Two Eat Café, 11 rue Notre-Dame de Nazareth, 75003 Paris\n\n \n\nL'atelier sera animé par Brigitte Neveu-Dérotrie (GE 85), créatrice de Yelen communication, conseil et formation communication digitale et réseaux sociaux B2B
BEGIN:VALARM
ACTION:DISPLAY
TRIGGER:-PT60M
DESCRIPTION:Workshop & partage de bonnes pratiques : « Développer sa eReputation, sa visibilité professionnelle et son influence grâce aux réseaux sociaux professionnels (LinkedIn, Twitter…) »
END:VALARM
END:VEVENT
END:VCALENDAR