BEGIN:VCALENDAR
VERSION:2.0
X-WR-TIMEZONE:Europe/Paris
PRODID:-//Audencia//NONSGML v1.0//EN
CALSCALE:GREGORIAN
BEGIN:VEVENT
SUMMARY:Breakfast in Abidjan, Ivory Coast
DTSTART:20181129T073000
DTEND:20181129T093000
UID:345
DTSTAMP:20260425T205858
LOCATION:Hotel Novotel  10 avenue du Général de Gaulle,  Plateau, Abidjan
DESCRIPTION:Calling all alumni in Abidjan!\n\nFollowing the success of September's afterwork, we are delighted to renew the occasion with a "beforework". Come and join alumni and friends for an informal breakfast gathering on:\n \nThursday 29 November\nfrom 7.30am\nat Hotel Novotel, 10 avenue du Général de Gaulle, Plateau, Abidjan\n\nThis will be an opportunity to get the day off to a great start, catch up with old friends and classmates and make new ones.\n\nLooking forward to seeing you there.\n\nGodefroy Flament Morgand (GE 18)
BEGIN:VALARM
ACTION:DISPLAY
TRIGGER:-PT60M
DESCRIPTION:Breakfast in Abidjan, Ivory Coast
END:VALARM
END:VEVENT
END:VCALENDAR