BEGIN:VCALENDAR
VERSION:2.0
X-WR-TIMEZONE:Europe/Paris
PRODID:-//Audencia//NONSGML v1.0//EN
CALSCALE:GREGORIAN
BEGIN:VEVENT
SUMMARY:Cérémonie de remise des diplômes / graduation ceremony
DTSTART:20190202T143000
DTEND:20190202T191500
UID:343
DTSTAMP:20260425T205905
LOCATION:Nantes
DESCRIPTION:The graduation ceremony for specialised and international masters.\n\nMore infos : audencia-graduation.com\n \n>> Registration <<
BEGIN:VALARM
ACTION:DISPLAY
TRIGGER:-PT60M
DESCRIPTION:Cérémonie de remise des diplômes / graduation ceremony
END:VALARM
END:VEVENT
END:VCALENDAR